BEGIN:VCALENDAR
VERSION:2.0
PRODID:-//Lynch7BStateCentral - ECPv6.6.1//NONSGML v1.0//EN
CALSCALE:GREGORIAN
METHOD:PUBLISH
X-WR-CALNAME:Lynch7BStateCentral
X-ORIGINAL-URL:https://lynch7bstatecentral.rocks
X-WR-CALDESC:Events for Lynch7BStateCentral
REFRESH-INTERVAL;VALUE=DURATION:PT1H
X-Robots-Tag:noindex
X-PUBLISHED-TTL:PT1H
BEGIN:VTIMEZONE
TZID:America/Chicago
BEGIN:DAYLIGHT
TZOFFSETFROM:-0600
TZOFFSETTO:-0500
TZNAME:CDT
DTSTART:20240310T080000
END:DAYLIGHT
BEGIN:STANDARD
TZOFFSETFROM:-0500
TZOFFSETTO:-0600
TZNAME:CST
DTSTART:20241103T070000
END:STANDARD
END:VTIMEZONE
BEGIN:VEVENT
DTSTART;TZID=America/Chicago:20240715T183000
DTEND;TZID=America/Chicago:20240715T193000
DTSTAMP:20260422T042238
CREATED:20240620T164235Z
LAST-MODIFIED:20240620T164235Z
UID:285-1721068200-1721071800@lynch7bstatecentral.rocks
SUMMARY:July 15 - Town Hall
DESCRIPTION:Please join us from 6:30 to 7:30 for grassroots training on Get Out The Vote (GOTV)\, new voter registration\, and change of party affiliation. \nWe meet every third Monday at The Villas in Woldenberg Village\, 3701 Behrman Place\, New Orleans\, La. \nThis is a free event. \nAn informed patriot is ready for street-level activation.
URL:https://lynch7bstatecentral.rocks/event/july-15-town-hall/
LOCATION:The Villas at Woldenberg Village\, 3701 Behrman Place\, New Orleans\, LA\, 70114\, United States
CATEGORIES:Town Hall
ATTACH;FMTTYPE=image/png:https://lynch7bstatecentral.rocks/wp-content/uploads/2024/05/Act-Now.png
ORGANIZER;CN="Lynch7BStateCentral":MAILTO:admin@Lynch7BStateCentral.rocks
END:VEVENT
END:VCALENDAR